BEGIN:VCALENDAR
VERSION:2.0
PRODID:-//OmniMagnetCalendar//EN
BEGIN:VEVENT
DTSTAMP:20190625T195740Z
STATUS:CONFIRMED
UID:hcwesternmass.clubs.harvard.edu176
DTSTART:20250824T150000Z
DTEND:20250824T193000Z
LOCATION:The Mount, 2 Plunkett St, Lenox, MA, 01240,
SUMMARY:Late Summer Soirée at Edith Wharton House (The Mount)
DESCRIPTION:
BEGIN:VALARM
TRIGGER:-PT15M
ACTION:DISPLAY
END:VALARM
TRANSP:OPAQUE
END:VEVENT
END:VCALENDAR
