BEGIN:VCALENDAR
VERSION:2.0
PRODID:-//OmniMagnetCalendar//EN
BEGIN:VEVENT
DTSTAMP:20190625T195740Z
STATUS:CONFIRMED
UID:hcwesternmass.clubs.harvard.edu179
DTSTART:20250925T213000Z
DTEND:20250926T010000Z
LOCATION:Elm Court, 310 Old Stockbridge Road, Lenox, MA,
SUMMARY:A Weaker Harvard is a Weaker America-Gautam Mukunda w/ Yale Club - SEP 25th 5:30 PM at Elm Court
DESCRIPTION:
BEGIN:VALARM
TRIGGER:-PT15M
ACTION:DISPLAY
END:VALARM
TRANSP:OPAQUE
END:VEVENT
END:VCALENDAR
